View In:
ArcGIS JavaScript
ArcGIS Online Map Viewer
ArcGIS Earth
Service Description: https://www.asitvd.ch/chercher/catalogue.html?view=sheet&guid=ca029eb5-4340-21c4-55f5-6de08c476a7b&catalog=main&type=complete&preview=search_list
Les points bruts classifiés sont issus de deux campagnes de vol réalisées lors du projet de mise à jour des données LiDAR du canton :
- une première campagne en juin et juillet 2015 sur les secteurs supérieurs à 1000 [m] d'alitude (Jura - Préalpes);
- une seconde campagne en novembre 2015 et mars 2016 sur les secteurs inférieurs à 1000 [m] d'altitude (Plateau).
Les points bruts obtenus sont convertis grâce à un algorithme d'interpolation en une donnée raster de maille régulière (grille) d'une résolution spatiale de 0.5 m.
Pour la grille MNT, seuls les points bruts représentant les sols et l'eau sont interpolés.
Utilisateurs autorisés Tout public
Tarif Payant
Type de représentation Raster ou grille
Résolution 50 cm
Précision des données brutes :
Altimétrie: 10 [cm] (1sigma)
Planimétrie: 20 [cm] (1 sigma)
Format disponible: ASCII.grid
Synoptique
Dates des vols du LiDAR 2015
Densité des points bruts du modèle numérique de terrain
Name: vaud/MNT_2015
Description: https://www.asitvd.ch/chercher/catalogue.html?view=sheet&guid=ca029eb5-4340-21c4-55f5-6de08c476a7b&catalog=main&type=complete&preview=search_list
Les points bruts classifiés sont issus de deux campagnes de vol réalisées lors du projet de mise à jour des données LiDAR du canton :
- une première campagne en juin et juillet 2015 sur les secteurs supérieurs à 1000 [m] d'alitude (Jura - Préalpes);
- une seconde campagne en novembre 2015 et mars 2016 sur les secteurs inférieurs à 1000 [m] d'altitude (Plateau).
Les points bruts obtenus sont convertis grâce à un algorithme d'interpolation en une donnée raster de maille régulière (grille) d'une résolution spatiale de 0.5 m.
Pour la grille MNT, seuls les points bruts représentant les sols et l'eau sont interpolés.
Utilisateurs autorisés Tout public
Tarif Payant
Type de représentation Raster ou grille
Résolution 50 cm
Précision des données brutes :
Altimétrie: 10 [cm] (1sigma)
Planimétrie: 20 [cm] (1 sigma)
Format disponible: ASCII.grid
Synoptique
Dates des vols du LiDAR 2015
Densité des points bruts du modèle numérique de terrain
Single Fused Map Cache: false
Extent:
XMin: 2494000.0
YMin: 1114000.0
XMax: 2586000.0
YMax: 1204000.0
Spatial Reference: 2056
(2056)
LatestVCSWkid(0)
Initial Extent:
XMin: 2494000.0
YMin: 1114000.0
XMax: 2586000.0
YMax: 1204000.0
Spatial Reference: 2056
(2056)
LatestVCSWkid(0)
Full Extent:
XMin: 2494000.0
YMin: 1114000.0
XMax: 2586000.0
YMax: 1204000.0
Spatial Reference: 2056
(2056)
LatestVCSWkid(0)
Pixel Size X: 0.5
Pixel Size Y: 0.5
Band Count: 1
Pixel Type: F32
RasterFunction Infos: {"rasterFunctionInfos": [{
"name": "None",
"description": "A No-Op Function.",
"help": ""
}]}
Mensuration Capabilities: Basic
Has Histograms: true
Has Colormap: false
Has Multi Dimensions : false
Rendering Rule:
Min Scale: 0
Max Scale: 0
Copyright Text: Administration cantonale vaudoise
Service Data Type: esriImageServiceDataTypeGeneric
Min Values: 372.0763244628906
Max Values: 3201.887939453125
Mean Values: 892.3558624093432
Standard Deviation Values: 448.90368132605494
Object ID Field: OBJECTID
Fields:
-
OBJECTID
(
type: esriFieldTypeOID, alias: OBJECTID
)
-
Shape
(
type: esriFieldTypeGeometry, alias: Shape
)
-
Name
(
type: esriFieldTypeString, alias: Name, length: 200
)
-
MinPS
(
type: esriFieldTypeDouble, alias: MinPS
)
-
MaxPS
(
type: esriFieldTypeDouble, alias: MaxPS
)
-
LowPS
(
type: esriFieldTypeDouble, alias: LowPS
)
-
HighPS
(
type: esriFieldTypeDouble, alias: HighPS
)
-
Category
(
type: esriFieldTypeInteger, alias: Category
, Coded Values:
[0: Unknown]
, [1: Primary]
, [2: Overview]
, ...6 more...
)
-
Tag
(
type: esriFieldTypeString, alias: Tag, length: 100
)
-
GroupName
(
type: esriFieldTypeString, alias: GroupName, length: 100
)
-
ProductName
(
type: esriFieldTypeString, alias: ProductName, length: 100
)
-
CenterX
(
type: esriFieldTypeDouble, alias: CenterX
)
-
CenterY
(
type: esriFieldTypeDouble, alias: CenterY
)
-
ZOrder
(
type: esriFieldTypeInteger, alias: ZOrder
)
-
Shape_Length
(
type: esriFieldTypeDouble, alias: Shape_Length
)
-
Shape_Area
(
type: esriFieldTypeDouble, alias: Shape_Area
)
Default Mosaic Method: Northwest
Allowed Mosaic Methods: NorthWest,Center,LockRaster,ByAttribute,Nadir,Viewpoint,Seamline,None
SortField:
SortValue: null
Mosaic Operator: First
Default Compression Quality: 75
Default Resampling Method: Bilinear
Max Record Count: 1000
Max Image Height: 30000
Max Image Width: 30000
Max Download Image Count: 20
Max Mosaic Image Count: 20
Allow Raster Function: true
Allow Copy: true
Allow Analysis: true
Allow Compute TiePoints: false
Supports Statistics: true
Supports Advanced Queries: true
Use StandardizedQueries: true
Raster Type Infos:
Name: Raster Dataset
Description: Supports all ArcGIS Raster Datasets
Help:
Has Raster Attribute Table: false
Edit Fields Info: null
Ownership Based AccessControl For Rasters: null
Child Resources:
Info
Histograms
Statistics
Key Properties
Legend
Raster Function Infos
Supported Operations:
Export Image
Query
Identify
Measure
Compute Histograms
Compute Statistics Histograms
Get Samples
Compute Class Statistics
Query Boundary
Compute Pixel Location
Compute Angles
Validate
Project