{ "currentVersion": 11.1, "serviceDescription": "
https://www.asitvd.ch/chercher/catalogue.html?view=sheet&guid=ca029eb5-4340-21c4-55f5-6de08c476a7b&catalog=main&type=complete&preview=search_list<\/SPAN><\/P> Les points bruts classifiés sont issus de deux campagnes de vol réalisées lors du projet de mise à jour des données LiDAR du canton :<\/SPAN><\/P> - une première campagne en juin et juillet 2015 sur les secteurs supérieurs à 1000 [m] d'alitude (Jura - Préalpes);<\/SPAN><\/P> - une seconde campagne en novembre 2015 et mars 2016 sur les secteurs inférieurs à 1000 [m] d'altitude (Plateau).<\/SPAN><\/P> Les points bruts obtenus sont convertis grâce à un algorithme d'interpolation en une donnée raster de maille régulière (grille) d'une résolution spatiale de 0.5 m.<\/SPAN><\/P> Pour la grille MNT, seuls les points bruts représentant les sols et l'eau sont interpolés.<\/SPAN><\/P> Utilisateurs autorisés\tTout public<\/SPAN><\/P> Tarif\tPayant<\/SPAN><\/P> Type de représentation\tRaster ou grille<\/SPAN><\/P> Résolution \t50 cm<\/SPAN><\/P> Précision des données brutes :<\/SPAN><\/P> Altimétrie: 10 [cm] (1sigma)<\/SPAN><\/P> Planimétrie: 20 [cm] (1 sigma)<\/SPAN><\/P> Format disponible:\tASCII.grid<\/SPAN><\/P> Synoptique\t<\/SPAN><\/P> Dates des vols du LiDAR 2015<\/SPAN><\/P> Densité des points bruts du modèle numérique de terrain<\/SPAN><\/P><\/DIV><\/DIV>",
"name": "vaud/MNT_2015",
"description": " https://www.asitvd.ch/chercher/catalogue.html?view=sheet&guid=ca029eb5-4340-21c4-55f5-6de08c476a7b&catalog=main&type=complete&preview=search_list<\/SPAN><\/P> Les points bruts classifiés sont issus de deux campagnes de vol réalisées lors du projet de mise à jour des données LiDAR du canton :<\/SPAN><\/P> - une première campagne en juin et juillet 2015 sur les secteurs supérieurs à 1000 [m] d'alitude (Jura - Préalpes);<\/SPAN><\/P> - une seconde campagne en novembre 2015 et mars 2016 sur les secteurs inférieurs à 1000 [m] d'altitude (Plateau).<\/SPAN><\/P> Les points bruts obtenus sont convertis grâce à un algorithme d'interpolation en une donnée raster de maille régulière (grille) d'une résolution spatiale de 0.5 m.<\/SPAN><\/P> Pour la grille MNT, seuls les points bruts représentant les sols et l'eau sont interpolés.<\/SPAN><\/P> Utilisateurs autorisés\tTout public<\/SPAN><\/P> Tarif\tPayant<\/SPAN><\/P> Type de représentation\tRaster ou grille<\/SPAN><\/P> Résolution \t50 cm<\/SPAN><\/P> Précision des données brutes :<\/SPAN><\/P> Altimétrie: 10 [cm] (1sigma)<\/SPAN><\/P> Planimétrie: 20 [cm] (1 sigma)<\/SPAN><\/P> Format disponible:\tASCII.grid<\/SPAN><\/P> Synoptique\t<\/SPAN><\/P> Dates des vols du LiDAR 2015<\/SPAN><\/P> Densité des points bruts du modèle numérique de terrain<\/SPAN><\/P><\/DIV><\/DIV>",
"extent": {
"xmin": 2494000,
"ymin": 1114000,
"xmax": 2586000,
"ymax": 1204000,
"spatialReference": {
"wkid": 2056,
"latestWkid": 2056
}
},
"initialExtent": {
"xmin": 2494000,
"ymin": 1114000,
"xmax": 2586000,
"ymax": 1204000,
"spatialReference": {
"wkid": 2056,
"latestWkid": 2056
}
},
"fullExtent": {
"xmin": 2494000,
"ymin": 1114000,
"xmax": 2586000,
"ymax": 1204000,
"spatialReference": {
"wkid": 2056,
"latestWkid": 2056
}
},
"sortableFields": "",
"bandCount": 1,
"pixelType": "F32",
"minValues": [
372.0763244628906
],
"maxValues": [
3201.887939453125
],
"meanValues": [
892.3558624093432
],
"stdvValues": [
448.90368132605494
],
"hasMultidimensions": false,
"pixelSizeX": 0.5,
"pixelSizeY": 0.5,
"datasetFormat": "AMD",
"uncompressedSize": 132480000000,
"blockWidth": 2048,
"blockHeight": 256,
"compressionType": "None",
"bandNames": [
"Band_1"
],
"allowCopy": true,
"allowAnalysis": true,
"itemAccess": false,
"minPixelSize": 0,
"maxPixelSize": 0,
"copyrightText": "Administration cantonale vaudoise",
"serviceDataType": "esriImageServiceDataTypeGeneric",
"serviceSourceType": "esriImageServiceSourceTypeMosaicDataset",
"objectIdField": "OBJECTID",
"fields": [
{
"name": "OBJECTID",
"type": "esriFieldTypeOID",
"alias": "OBJECTID",
"domain": null
},
{
"name": "Shape",
"type": "esriFieldTypeGeometry",
"alias": "Shape",
"domain": null
},
{
"name": "Name",
"type": "esriFieldTypeString",
"alias": "Name",
"domain": null,
"length": 200
},
{
"name": "MinPS",
"type": "esriFieldTypeDouble",
"alias": "MinPS",
"domain": null
},
{
"name": "MaxPS",
"type": "esriFieldTypeDouble",
"alias": "MaxPS",
"domain": null
},
{
"name": "LowPS",
"type": "esriFieldTypeDouble",
"alias": "LowPS",
"domain": null
},
{
"name": "HighPS",
"type": "esriFieldTypeDouble",
"alias": "HighPS",
"domain": null
},
{
"name": "Category",
"type": "esriFieldTypeInteger",
"alias": "Category",
"domain": {
"type": "codedValue",
"name": "MosaicCatalogItemCategoryDomain",
"description": "Catalog item categories.",
"codedValues": [
{
"name": "Unknown",
"code": 0
},
{
"name": "Primary",
"code": 1
},
{
"name": "Overview",
"code": 2
},
{
"name": "Unprocessed Overview",
"code": 3
},
{
"name": "Partial Overview",
"code": 4
},
{
"name": "Inactive",
"code": 5
},
{
"name": "Uploaded",
"code": 253
},
{
"name": "Incomplete",
"code": 254
},
{
"name": "Custom",
"code": 255
}
],
"mergePolicy": "esriMPTDefaultValue",
"splitPolicy": "esriSPTDefaultValue"
}
},
{
"name": "Tag",
"type": "esriFieldTypeString",
"alias": "Tag",
"domain": null,
"length": 100
},
{
"name": "GroupName",
"type": "esriFieldTypeString",
"alias": "GroupName",
"domain": null,
"length": 100
},
{
"name": "ProductName",
"type": "esriFieldTypeString",
"alias": "ProductName",
"domain": null,
"length": 100
},
{
"name": "CenterX",
"type": "esriFieldTypeDouble",
"alias": "CenterX",
"domain": null
},
{
"name": "CenterY",
"type": "esriFieldTypeDouble",
"alias": "CenterY",
"domain": null
},
{
"name": "ZOrder",
"type": "esriFieldTypeInteger",
"alias": "ZOrder",
"domain": null
},
{
"name": "Shape_Length",
"type": "esriFieldTypeDouble",
"alias": "Shape_Length",
"domain": null
},
{
"name": "Shape_Area",
"type": "esriFieldTypeDouble",
"alias": "Shape_Area",
"domain": null
}
],
"capabilities": "Image,Metadata,Catalog,Mensuration",
"defaultMosaicMethod": "Northwest",
"allowedMosaicMethods": "NorthWest,Center,LockRaster,ByAttribute,Nadir,Viewpoint,Seamline,None",
"sortField": "",
"sortValue": null,
"sortAscending": true,
"mosaicOperator": "First",
"maxDownloadSizeLimit": 2048,
"defaultCompressionQuality": 75,
"defaultResamplingMethod": "Bilinear",
"maxImageHeight": 30000,
"maxImageWidth": 30000,
"maxRecordCount": 1000,
"maxDownloadImageCount": 20,
"maxMosaicImageCount": 20,
"allowRasterFunction": true,
"rasterFunctionInfos": [
{
"name": "None",
"description": "A No-Op Function.",
"help": ""
}
],
"rasterTypeInfos": [
{
"name": "Raster Dataset",
"description": "Supports all ArcGIS Raster Datasets",
"help": ""
}
],
"mensurationCapabilities": "Basic",
"hasHistograms": true,
"hasColormap": false,
"hasRasterAttributeTable": false,
"minScale": 0,
"maxScale": 0,
"exportTilesAllowed": false,
"supportsStatistics": true,
"supportsAdvancedQueries": true,
"editFieldsInfo": null,
"ownershipBasedAccessControlForRasters": null,
"allowComputeTiePoints": false,
"useStandardizedQueries": true,
"advancedQueryCapabilities": {
"useStandardizedQueries": true,
"supportsStatistics": true,
"supportsOrderBy": true,
"supportsDistinct": true,
"supportsPagination": true
},
"spatialReference": {
"wkid": 2056,
"latestWkid": 2056
}
}