View In:
ArcGIS JavaScript
ArcGIS Online Map Viewer
ArcGIS Earth
Service Description: MNT 2005, résolution 1m, CH1903_LV03
Name: vaud/MNT_2005
Description: MNT 2005, résolution 1m, CH1903_LV03
Single Fused Map Cache: false
Extent:
XMin: 480000.0
YMin: 113000.0
XMax: 589375.0
YMax: 206000.0
Spatial Reference: 21781
(21781)
LatestVCSWkid(0)
Initial Extent:
XMin: 480000.0
YMin: 113000.0
XMax: 589375.0
YMax: 206000.0
Spatial Reference: 21781
(21781)
LatestVCSWkid(0)
Full Extent:
XMin: 480000.0
YMin: 113000.0
XMax: 589375.0
YMax: 206000.0
Spatial Reference: 21781
(21781)
LatestVCSWkid(0)
Pixel Size X: 1.0
Pixel Size Y: 1.0
Band Count: 1
Pixel Type: F32
RasterFunction Infos: {"rasterFunctionInfos": [{
"name": "None",
"description": "",
"help": ""
}]}
Mensuration Capabilities: Basic
Has Histograms: true
Has Colormap: false
Has Multi Dimensions : false
Rendering Rule:
Min Scale: 0
Max Scale: 0
Copyright Text: Administration cantonale vaudoise
Service Data Type: esriImageServiceDataTypeGeneric
Min Values: 368.95001220703125
Max Values: 3209.958984375
Mean Values: 889.1839492901638
Standard Deviation Values: 467.7920490072378
Object ID Field:
Fields:
None
Default Mosaic Method: Center
Allowed Mosaic Methods:
SortField:
SortValue: null
Mosaic Operator: First
Default Compression Quality: 75
Default Resampling Method: Bilinear
Max Record Count: null
Max Image Height: 30000
Max Image Width: 30000
Max Download Image Count: null
Max Mosaic Image Count: null
Allow Raster Function: true
Allow Copy: true
Allow Analysis: true
Allow Compute TiePoints: false
Supports Statistics: false
Supports Advanced Queries: false
Use StandardizedQueries: true
Raster Type Infos:
Name: Raster Dataset
Description: Supports all ArcGIS Raster Datasets
Help:
Has Raster Attribute Table: false
Edit Fields Info: null
Ownership Based AccessControl For Rasters: null
Child Resources:
Info
Histograms
Statistics
Key Properties
Legend
Raster Function Infos
Supported Operations:
Export Image
Identify
Measure
Compute Histograms
Compute Statistics Histograms
Get Samples
Compute Class Statistics
Query Boundary
Compute Pixel Location
Compute Angles
Validate
Project