{
 "currentVersion": 11.1,
 "serviceDescription": "MNT 2005, résolution 1m, CH1903_LV03",
 "name": "vaud/MNT_2005",
 "description": "MNT 2005, résolution 1m, CH1903_LV03",
 "extent": {
  "xmin": 480000,
  "ymin": 113000,
  "xmax": 589375,
  "ymax": 206000,
  "spatialReference": {
   "wkid": 21781,
   "latestWkid": 21781
  }
 },
 "initialExtent": {
  "xmin": 480000,
  "ymin": 113000,
  "xmax": 589375,
  "ymax": 206000,
  "spatialReference": {
   "wkid": 21781,
   "latestWkid": 21781
  }
 },
 "fullExtent": {
  "xmin": 480000,
  "ymin": 113000,
  "xmax": 589375,
  "ymax": 206000,
  "spatialReference": {
   "wkid": 21781,
   "latestWkid": 21781
  }
 },
 "sortableFields": "",
 "bandCount": 1,
 "pixelType": "F32",
 "minValues": [
  368.95001220703125
 ],
 "maxValues": [
  3209.958984375
 ],
 "meanValues": [
  889.1839492901638
 ],
 "stdvValues": [
  467.7920490072378
 ],
 "hasMultidimensions": false,
 "pixelSizeX": 1,
 "pixelSizeY": 1,
 "datasetFormat": "FGDBR",
 "uncompressedSize": 40687500000,
 "blockWidth": 128,
 "blockHeight": 128,
 "compressionType": "LZ77",
 "bandNames": [
  "Band_1"
 ],
 "allowCopy": true,
 "allowAnalysis": true,
 "itemAccess": false,
 "minPixelSize": 0,
 "maxPixelSize": 0,
 "copyrightText": "Administration cantonale vaudoise",
 "serviceDataType": "esriImageServiceDataTypeGeneric",
 "serviceSourceType": "esriImageServiceSourceTypeDataset",
 "objectIdField": "",
 "fields": [],
 "capabilities": "Image,Metadata,Mensuration",
 "defaultMosaicMethod": "Center",
 "allowedMosaicMethods": "",
 "sortField": "",
 "sortValue": null,
 "sortAscending": true,
 "mosaicOperator": "First",
 "defaultCompressionQuality": 75,
 "defaultResamplingMethod": "Bilinear",
 "maxImageHeight": 30000,
 "maxImageWidth": 30000,
 "allowRasterFunction": true,
 "rasterFunctionInfos": [
  {
   "name": "None",
   "description": "",
   "help": ""
  }
 ],
 "rasterTypeInfos": [
  {
   "name": "Raster Dataset",
   "description": "Supports all ArcGIS Raster Datasets",
   "help": ""
  }
 ],
 "mensurationCapabilities": "Basic",
 "hasHistograms": true,
 "hasColormap": false,
 "hasRasterAttributeTable": false,
 "minScale": 0,
 "maxScale": 0,
 "exportTilesAllowed": false,
 "supportsStatistics": false,
 "supportsAdvancedQueries": false,
 "editFieldsInfo": null,
 "ownershipBasedAccessControlForRasters": null,
 "allowComputeTiePoints": false,
 "useStandardizedQueries": true,
 "advancedQueryCapabilities": {
  "useStandardizedQueries": true,
  "supportsStatistics": false,
  "supportsOrderBy": false,
  "supportsDistinct": false,
  "supportsPagination": false
 },
 "spatialReference": {
  "wkid": 21781,
  "latestWkid": 21781
 }
}
