View In:
ArcGIS JavaScript
ArcGIS Online Map Viewer
ArcGIS Earth
Service Description: geneve/Carte_IGN50K_2000
Name: geneve/Carte_IGN50K_2000
Description:
Single Fused Map Cache: false
Extent:
XMin: 2460693.7430999987
YMin: 1077694.3210942175
XMax: 2533576.4044215903
YMax: 1146294.2836000018
Spatial Reference: 2056
(2056)
LatestVCSWkid(0)
Initial Extent:
XMin: 2460693.7430999987
YMin: 1077694.3210942175
XMax: 2533576.4044215903
YMax: 1146294.2836000018
Spatial Reference: 2056
(2056)
LatestVCSWkid(0)
Full Extent:
XMin: 2460693.7430999987
YMin: 1077694.3210942175
XMax: 2533576.4044215903
YMax: 1146294.2836000018
Spatial Reference: 2056
(2056)
LatestVCSWkid(0)
Pixel Size X: 4.265636270724078
Pixel Size Y: 4.265636270724061
Band Count: 3
Pixel Type: U8
RasterFunction Infos: {"rasterFunctionInfos": [{
"name": "None",
"description": "",
"help": ""
}]}
Mensuration Capabilities: Basic
Has Histograms: true
Has Colormap: false
Has Multi Dimensions : false
Rendering Rule:
Min Scale: 0
Max Scale: 0
Copyright Text:
Service Data Type: esriImageServiceDataTypeRGB
Min Values: 4, 31, 13
Max Values: 255, 255, 255
Mean Values: 184.44745669598774, 188.23319521599365, 182.67943031501994
Standard Deviation Values: 47.75037529412792, 47.46325417465611, 52.748874150906744
Object ID Field:
Fields:
None
Default Mosaic Method: Center
Allowed Mosaic Methods:
SortField:
SortValue: null
Mosaic Operator: First
Default Compression Quality: 75
Default Resampling Method: Bilinear
Max Record Count: null
Max Image Height: 4100
Max Image Width: 15000
Max Download Image Count: null
Max Mosaic Image Count: null
Allow Raster Function: true
Allow Copy: true
Allow Analysis: true
Allow Compute TiePoints: false
Supports Statistics: false
Supports Advanced Queries: false
Use StandardizedQueries: true
Raster Type Infos:
Name: Raster Dataset
Description: Supports all ArcGIS Raster Datasets
Help:
Has Raster Attribute Table: false
Edit Fields Info: null
Ownership Based AccessControl For Rasters: null
Child Resources:
Info
Histograms
Statistics
Key Properties
Legend
Raster Function Infos
Supported Operations:
Export Image
Identify
Measure
Compute Histograms
Compute Statistics Histograms
Get Samples
Compute Class Statistics
Query Boundary
Compute Pixel Location
Compute Angles
Validate
Project