{
 "currentVersion": 11.1,
 "serviceDescription": "geneve/Carte_IGN50K_2000",
 "name": "geneve/Carte_IGN50K_2000",
 "description": "",
 "extent": {
  "xmin": 2460693.7430999987,
  "ymin": 1077694.3210942175,
  "xmax": 2533576.4044215903,
  "ymax": 1146294.2836000018,
  "spatialReference": {
   "wkid": 2056,
   "latestWkid": 2056
  }
 },
 "initialExtent": {
  "xmin": 2460693.7430999987,
  "ymin": 1077694.3210942175,
  "xmax": 2533576.4044215903,
  "ymax": 1146294.2836000018,
  "spatialReference": {
   "wkid": 2056,
   "latestWkid": 2056
  }
 },
 "fullExtent": {
  "xmin": 2460693.7430999987,
  "ymin": 1077694.3210942175,
  "xmax": 2533576.4044215903,
  "ymax": 1146294.2836000018,
  "spatialReference": {
   "wkid": 2056,
   "latestWkid": 2056
  }
 },
 "sortableFields": "",
 "bandCount": 3,
 "pixelType": "U8",
 "minValues": [
  4,
  31,
  13
 ],
 "maxValues": [
  255,
  255,
  255
 ],
 "meanValues": [
  184.44745669598774,
  188.23319521599365,
  182.67943031501994
 ],
 "stdvValues": [
  47.75037529412792,
  47.46325417465611,
  52.748874150906744
 ],
 "hasMultidimensions": false,
 "pixelSizeX": 4.265636270724078,
 "pixelSizeY": 4.265636270724061,
 "datasetFormat": "FGDBR",
 "uncompressedSize": 824331156,
 "blockWidth": 128,
 "blockHeight": 128,
 "compressionType": "LZ77",
 "bandNames": [
  "Band_1",
  "Band_2",
  "Band_3"
 ],
 "allowCopy": true,
 "allowAnalysis": true,
 "itemAccess": false,
 "minPixelSize": 0,
 "maxPixelSize": 0,
 "copyrightText": "",
 "serviceDataType": "esriImageServiceDataTypeRGB",
 "serviceSourceType": "esriImageServiceSourceTypeDataset",
 "objectIdField": "",
 "fields": [],
 "capabilities": "Image,Metadata,Mensuration",
 "defaultMosaicMethod": "Center",
 "allowedMosaicMethods": "",
 "sortField": "",
 "sortValue": null,
 "sortAscending": true,
 "mosaicOperator": "First",
 "defaultCompressionQuality": 75,
 "defaultResamplingMethod": "Bilinear",
 "maxImageHeight": 4100,
 "maxImageWidth": 15000,
 "allowRasterFunction": true,
 "rasterFunctionInfos": [
  {
   "name": "None",
   "description": "",
   "help": ""
  }
 ],
 "rasterTypeInfos": [
  {
   "name": "Raster Dataset",
   "description": "Supports all ArcGIS Raster Datasets",
   "help": ""
  }
 ],
 "mensurationCapabilities": "Basic",
 "hasHistograms": true,
 "hasColormap": false,
 "hasRasterAttributeTable": false,
 "minScale": 0,
 "maxScale": 0,
 "exportTilesAllowed": false,
 "supportsStatistics": false,
 "supportsAdvancedQueries": false,
 "editFieldsInfo": null,
 "ownershipBasedAccessControlForRasters": null,
 "allowComputeTiePoints": false,
 "useStandardizedQueries": true,
 "advancedQueryCapabilities": {
  "useStandardizedQueries": true,
  "supportsStatistics": false,
  "supportsOrderBy": false,
  "supportsDistinct": false,
  "supportsPagination": false
 },
 "spatialReference": {
  "wkid": 2056,
  "latestWkid": 2056
 }
}
