View In:
ArcGIS JavaScript
ArcGIS Online Map Viewer
ArcGIS Earth
Service Description: geneve/Carte_IGN50K_1970
Name: geneve/Carte_IGN50K_1970
Description:
Single Fused Map Cache: false
Extent:
XMin: 2464863.845400002
YMin: 1078058.953104793
XMax: 2534147.243813871
YMax: 1147526.5703000003
Spatial Reference: 2056
(2056)
LatestVCSWkid(0)
Initial Extent:
XMin: 2464863.845400002
YMin: 1078058.953104793
XMax: 2534147.243813871
YMax: 1147526.5703000003
Spatial Reference: 2056
(2056)
LatestVCSWkid(0)
Full Extent:
XMin: 2464863.845400002
YMin: 1078058.953104793
XMax: 2534147.243813871
YMax: 1147526.5703000003
Spatial Reference: 2056
(2056)
LatestVCSWkid(0)
Pixel Size X: 4.284157705532345
Pixel Size Y: 4.2841577055323565
Band Count: 3
Pixel Type: U8
RasterFunction Infos: {"rasterFunctionInfos": [{
"name": "None",
"description": "",
"help": ""
}]}
Mensuration Capabilities: Basic
Has Histograms: true
Has Colormap: false
Has Multi Dimensions : false
Rendering Rule:
Min Scale: 0
Max Scale: 0
Copyright Text:
Service Data Type: esriImageServiceDataTypeRGB
Min Values: 0, 26, 0
Max Values: 255, 255, 255
Mean Values: 167.6555177732338, 173.44830483109476, 165.12769768850612
Standard Deviation Values: 48.91657383202501, 46.078249158911895, 49.636847872656496
Object ID Field:
Fields:
None
Default Mosaic Method: Center
Allowed Mosaic Methods:
SortField:
SortValue: null
Mosaic Operator: First
Default Compression Quality: 75
Default Resampling Method: Bilinear
Max Record Count: null
Max Image Height: 4100
Max Image Width: 15000
Max Download Image Count: null
Max Mosaic Image Count: null
Allow Raster Function: true
Allow Copy: true
Allow Analysis: true
Allow Compute TiePoints: false
Supports Statistics: false
Supports Advanced Queries: false
Use StandardizedQueries: true
Raster Type Infos:
Name: Raster Dataset
Description: Supports all ArcGIS Raster Datasets
Help:
Has Raster Attribute Table: false
Edit Fields Info: null
Ownership Based AccessControl For Rasters: null
Child Resources:
Info
Histograms
Statistics
Key Properties
Legend
Raster Function Infos
Supported Operations:
Export Image
Identify
Measure
Compute Histograms
Compute Statistics Histograms
Get Samples
Compute Class Statistics
Query Boundary
Compute Pixel Location
Compute Angles
Validate
Project