{
 "currentVersion": 11.1,
 "serviceDescription": "geneve/Carte_IGN50K_1970",
 "name": "geneve/Carte_IGN50K_1970",
 "description": "",
 "extent": {
  "xmin": 2464863.845400002,
  "ymin": 1078058.953104793,
  "xmax": 2534147.243813871,
  "ymax": 1147526.5703000003,
  "spatialReference": {
   "wkid": 2056,
   "latestWkid": 2056
  }
 },
 "initialExtent": {
  "xmin": 2464863.845400002,
  "ymin": 1078058.953104793,
  "xmax": 2534147.243813871,
  "ymax": 1147526.5703000003,
  "spatialReference": {
   "wkid": 2056,
   "latestWkid": 2056
  }
 },
 "fullExtent": {
  "xmin": 2464863.845400002,
  "ymin": 1078058.953104793,
  "xmax": 2534147.243813871,
  "ymax": 1147526.5703000003,
  "spatialReference": {
   "wkid": 2056,
   "latestWkid": 2056
  }
 },
 "sortableFields": "",
 "bandCount": 3,
 "pixelType": "U8",
 "minValues": [
  0,
  26,
  0
 ],
 "maxValues": [
  255,
  255,
  255
 ],
 "meanValues": [
  167.6555177732338,
  173.44830483109476,
  165.12769768850612
 ],
 "stdvValues": [
  48.91657383202501,
  46.078249158911895,
  49.636847872656496
 ],
 "hasMultidimensions": false,
 "pixelSizeX": 4.284157705532345,
 "pixelSizeY": 4.2841577055323565,
 "datasetFormat": "FGDBR",
 "uncompressedSize": 786686940,
 "blockWidth": 128,
 "blockHeight": 128,
 "compressionType": "LZ77",
 "bandNames": [
  "Band_1",
  "Band_2",
  "Band_3"
 ],
 "allowCopy": true,
 "allowAnalysis": true,
 "itemAccess": false,
 "minPixelSize": 0,
 "maxPixelSize": 0,
 "copyrightText": "",
 "serviceDataType": "esriImageServiceDataTypeRGB",
 "serviceSourceType": "esriImageServiceSourceTypeDataset",
 "objectIdField": "",
 "fields": [],
 "capabilities": "Image,Metadata,Mensuration",
 "defaultMosaicMethod": "Center",
 "allowedMosaicMethods": "",
 "sortField": "",
 "sortValue": null,
 "sortAscending": true,
 "mosaicOperator": "First",
 "defaultCompressionQuality": 75,
 "defaultResamplingMethod": "Bilinear",
 "maxImageHeight": 4100,
 "maxImageWidth": 15000,
 "allowRasterFunction": true,
 "rasterFunctionInfos": [
  {
   "name": "None",
   "description": "",
   "help": ""
  }
 ],
 "rasterTypeInfos": [
  {
   "name": "Raster Dataset",
   "description": "Supports all ArcGIS Raster Datasets",
   "help": ""
  }
 ],
 "mensurationCapabilities": "Basic",
 "hasHistograms": true,
 "hasColormap": false,
 "hasRasterAttributeTable": false,
 "minScale": 0,
 "maxScale": 0,
 "exportTilesAllowed": false,
 "supportsStatistics": false,
 "supportsAdvancedQueries": false,
 "editFieldsInfo": null,
 "ownershipBasedAccessControlForRasters": null,
 "allowComputeTiePoints": false,
 "useStandardizedQueries": true,
 "advancedQueryCapabilities": {
  "useStandardizedQueries": true,
  "supportsStatistics": false,
  "supportsOrderBy": false,
  "supportsDistinct": false,
  "supportsPagination": false
 },
 "spatialReference": {
  "wkid": 2056,
  "latestWkid": 2056
 }
}
