View In:
ArcGIS JavaScript
ArcGIS Online Map Viewer
ArcGIS Earth
Service Description: MNS 2005, résolution 1m, CH1903_LV03
Name: vaud/MNS_2005
Description: MNS 2005, résolution 1m, CH1903_LV03
Single Fused Map Cache: false
Extent:
XMin: 493124.995122537
YMin: 112999.5331590958
XMax: 589374.995122537
YMax: 205999.5331590958
Spatial Reference: 21781
(21781)
LatestVCSWkid(0)
Initial Extent:
XMin: 493124.995122537
YMin: 112999.5331590958
XMax: 589374.995122537
YMax: 205999.5331590958
Spatial Reference: 21781
(21781)
LatestVCSWkid(0)
Full Extent:
XMin: 493124.995122537
YMin: 112999.5331590958
XMax: 589374.995122537
YMax: 205999.5331590958
Spatial Reference: 21781
(21781)
LatestVCSWkid(0)
Pixel Size X: 1.0
Pixel Size Y: 1.0
Band Count: 1
Pixel Type: F32
RasterFunction Infos: {"rasterFunctionInfos": [{
"name": "None",
"description": "",
"help": ""
}]}
Mensuration Capabilities: Basic
Has Histograms: true
Has Colormap: false
Has Multi Dimensions : false
Rendering Rule:
Min Scale: 0
Max Scale: 0
Copyright Text: Administration cantonale vaudoise
Service Data Type: esriImageServiceDataTypeGeneric
Min Values: -21474180
Max Values: 3211
Mean Values: 892.384112866714
Standard Deviation Values: 670.8518100098754
Object ID Field:
Fields:
None
Default Mosaic Method: Center
Allowed Mosaic Methods:
SortField:
SortValue: null
Mosaic Operator: First
Default Compression Quality: 75
Default Resampling Method: Bilinear
Max Record Count: null
Max Image Height: 30000
Max Image Width: 30000
Max Download Image Count: null
Max Mosaic Image Count: null
Allow Raster Function: true
Allow Copy: true
Allow Analysis: true
Allow Compute TiePoints: false
Supports Statistics: false
Supports Advanced Queries: false
Use StandardizedQueries: true
Raster Type Infos:
Name: Raster Dataset
Description: Supports all ArcGIS Raster Datasets
Help:
Has Raster Attribute Table: false
Edit Fields Info: null
Ownership Based AccessControl For Rasters: null
Child Resources:
Info
Histograms
Statistics
Key Properties
Legend
Raster Function Infos
Supported Operations:
Export Image
Identify
Measure
Compute Histograms
Compute Statistics Histograms
Get Samples
Compute Class Statistics
Query Boundary
Compute Pixel Location
Compute Angles
Validate
Project