View In:
ArcGIS JavaScript
ArcGIS Online Map Viewer
ArcGIS Earth
Service Description: MNS 50cm couvrant GE, VD, FR, NE (2017-2019 selon les zones)
swissSURFACE3D Raster est un modèle numérique de surface (MNS) qui représente la forme de la surface de la terre, y compris tous les éléments permanents et visibles du paysage tels que le sol, la végétation, les forêts, les bâtiments et autres structures avec l’exception des lignes de haute tension et pylônes.
https://www.swisstopo.admin.ch/fr/geodata/height/surface3d-raster.html
Name: suisse/swissSurface3D
Description: MNS 50cm couvrant GE, VD, FR, NE (2017-2019 selon les zones)
swissSURFACE3D Raster est un modèle numérique de surface (MNS) qui représente la forme de la surface de la terre, y compris tous les éléments permanents et visibles du paysage tels que le sol, la végétation, les forêts, les bâtiments et autres structures avec l’exception des lignes de haute tension et pylônes.
https://www.swisstopo.admin.ch/fr/geodata/height/surface3d-raster.html
Single Fused Map Cache: false
Extent:
XMin: 2485000.0
YMin: 1109000.0
XMax: 2596000.0
YMax: 1225000.0
Spatial Reference: 2056
(2056)
LatestVCSWkid(0)
Initial Extent:
XMin: 2485000.0
YMin: 1109000.0
XMax: 2596000.0
YMax: 1225000.0
Spatial Reference: 2056
(2056)
LatestVCSWkid(0)
Full Extent:
XMin: 2485000.0
YMin: 1109000.0
XMax: 2596000.0
YMax: 1225000.0
Spatial Reference: 2056
(2056)
LatestVCSWkid(0)
Pixel Size X: 0.5
Pixel Size Y: 0.5
Band Count: 1
Pixel Type: F32
RasterFunction Infos: {"rasterFunctionInfos": [{
"name": "None",
"description": "A No-Op Function.",
"help": ""
}]}
Mensuration Capabilities:
Has Histograms: true
Has Colormap: false
Has Multi Dimensions : false
Rendering Rule:
Min Scale: 0
Max Scale: 0
Copyright Text: swisstopo
Service Data Type: esriImageServiceDataTypeGeneric
Min Values: 372.39686650037766
Max Values: 722.703139603138
Mean Values: 527.5906465536915
Standard Deviation Values: 97.71925909908678
Object ID Field: OBJECTID
Fields:
-
OBJECTID
(
type: esriFieldTypeOID, alias: OBJECTID
)
-
Shape
(
type: esriFieldTypeGeometry, alias: Shape
)
-
Name
(
type: esriFieldTypeString, alias: Name, length: 200
)
-
MinPS
(
type: esriFieldTypeDouble, alias: MinPS
)
-
MaxPS
(
type: esriFieldTypeDouble, alias: MaxPS
)
-
LowPS
(
type: esriFieldTypeDouble, alias: LowPS
)
-
HighPS
(
type: esriFieldTypeDouble, alias: HighPS
)
-
Category
(
type: esriFieldTypeInteger, alias: Category
, Coded Values:
[0: Unknown]
, [1: Primary]
, [2: Overview]
, ...6 more...
)
-
Tag
(
type: esriFieldTypeString, alias: Tag, length: 100
)
-
GroupName
(
type: esriFieldTypeString, alias: GroupName, length: 100
)
-
ProductName
(
type: esriFieldTypeString, alias: ProductName, length: 100
)
-
CenterX
(
type: esriFieldTypeDouble, alias: CenterX
)
-
CenterY
(
type: esriFieldTypeDouble, alias: CenterY
)
-
ZOrder
(
type: esriFieldTypeInteger, alias: ZOrder
)
-
Shape_Length
(
type: esriFieldTypeDouble, alias: Shape_Length
)
-
Shape_Area
(
type: esriFieldTypeDouble, alias: Shape_Area
)
-
Annee
(
type: esriFieldTypeSmallInteger, alias: Annee
)
Default Mosaic Method: Northwest
Allowed Mosaic Methods: NorthWest,Center,LockRaster,ByAttribute,Nadir,Viewpoint,Seamline,None
SortField:
SortValue: null
Mosaic Operator: First
Default Compression Quality: 10000
Default Resampling Method: Bilinear
Max Record Count: 1000
Max Image Height: 30000
Max Image Width: 30000
Max Download Image Count: 20
Max Mosaic Image Count: 20
Allow Raster Function: true
Allow Copy: true
Allow Analysis: true
Allow Compute TiePoints: false
Supports Statistics: true
Supports Advanced Queries: true
Use StandardizedQueries: true
Raster Type Infos:
Name: Raster Dataset
Description: Supports all ArcGIS Raster Datasets
Help:
Has Raster Attribute Table: false
Edit Fields Info: null
Ownership Based AccessControl For Rasters: null
Child Resources:
Info
Histograms
Statistics
Key Properties
Legend
Raster Function Infos
Supported Operations:
Export Image
Query
Identify
Download Rasters
Measure
Compute Histograms
Compute Statistics Histograms
Get Samples
Compute Class Statistics
Query Boundary
Compute Pixel Location
Compute Angles
Validate
Project