View In:
ArcGIS JavaScript
ArcGIS Online Map Viewer
ArcGIS Earth
Service Description: Modèle numérique de terrain résolution 25m de swisstopo
Name: suisse/mnt25
Description: Modèle numérique de terrain résolution 25m de swisstopo
Single Fused Map Cache: false
Extent:
XMin: 2479986.9009121545
YMin: 1073962.998995096
XMax: 2865036.9009121545
YMax: 1302012.998995096
Spatial Reference: 2056
(2056)
LatestVCSWkid(0)
Initial Extent:
XMin: 2479986.9009121545
YMin: 1073962.998995096
XMax: 2865036.9009121545
YMax: 1302012.998995096
Spatial Reference: 2056
(2056)
LatestVCSWkid(0)
Full Extent:
XMin: 2479986.9009121545
YMin: 1073962.998995096
XMax: 2865036.9009121545
YMax: 1302012.998995096
Spatial Reference: 2056
(2056)
LatestVCSWkid(0)
Pixel Size X: 25.0
Pixel Size Y: 25.0
Band Count: 1
Pixel Type: F32
RasterFunction Infos: {"rasterFunctionInfos": [{
"name": "None",
"description": "",
"help": ""
}]}
Mensuration Capabilities: Basic
Has Histograms: true
Has Colormap: false
Has Multi Dimensions : false
Rendering Rule:
Min Scale: 0
Max Scale: 0
Copyright Text: swisstopo
Service Data Type: esriImageServiceDataTypeGeneric
Min Values: 193
Max Values: 4629
Mean Values: 1277.7990648198925
Standard Deviation Values: 806.3383402465876
Object ID Field:
Fields:
None
Default Mosaic Method: Center
Allowed Mosaic Methods:
SortField:
SortValue: null
Mosaic Operator: First
Default Compression Quality: 10000
Default Resampling Method: Bilinear
Max Record Count: null
Max Image Height: 30000
Max Image Width: 30000
Max Download Image Count: null
Max Mosaic Image Count: null
Allow Raster Function: true
Allow Copy: true
Allow Analysis: true
Allow Compute TiePoints: false
Supports Statistics: false
Supports Advanced Queries: false
Use StandardizedQueries: true
Raster Type Infos:
Name: Raster Dataset
Description: Supports all ArcGIS Raster Datasets
Help:
Has Raster Attribute Table: false
Edit Fields Info: null
Ownership Based AccessControl For Rasters: null
Child Resources:
Info
Histograms
Statistics
Key Properties
Legend
Raster Function Infos
Supported Operations:
Export Image
Identify
Measure
Compute Histograms
Compute Statistics Histograms
Get Samples
Compute Class Statistics
Query Boundary
Compute Pixel Location
Compute Angles
Validate
Project