View In:
ArcGIS JavaScript
ArcGIS Online Map Viewer
ArcGIS Earth
Service Description: Modèle numérique de terrain Swisstopo 2019 à 50cm
- Genève 2019
- Vaud 2019
- Fribourg 2019
- Jura 2019
- Neuchâtel 2019
- Valais 2019 - Berne francophone 2019
Name: suisse/MNT_2019
Description: Modèle numérique de terrain Swisstopo 2019 à 50cm
- Genève 2019
- Vaud 2019
- Fribourg 2019
- Jura 2019
- Neuchâtel 2019
- Valais 2019 - Berne francophone 2019
Single Fused Map Cache: false
Extent:
XMin: 2485000.0
YMin: 1078000.0
XMax: 2680000.0
YMax: 1262000.0
Spatial Reference: 2056
(2056)
LatestVCSWkid(0)
Initial Extent:
XMin: 2485000.0
YMin: 1078000.0
XMax: 2680000.0
YMax: 1262000.0
Spatial Reference: 2056
(2056)
LatestVCSWkid(0)
Full Extent:
XMin: 2485000.0
YMin: 1078000.0
XMax: 2680000.0
YMax: 1262000.0
Spatial Reference: 2056
(2056)
LatestVCSWkid(0)
Pixel Size X: 0.5
Pixel Size Y: 0.5
Band Count: 1
Pixel Type: F32
RasterFunction Infos: {"rasterFunctionInfos": [{
"name": "None",
"description": "A No-Op Function.",
"help": ""
}]}
Mensuration Capabilities:
Has Histograms: true
Has Colormap: false
Has Multi Dimensions : false
Rendering Rule:
Min Scale: 0
Max Scale: 0
Copyright Text: swissAlti3D swisstopo 2019
Service Data Type: esriImageServiceDataTypeGeneric
Min Values: 187.2515411376953
Max Values: 4632.63720703125
Mean Values: 1394.7964478640026
Standard Deviation Values: 892.0953638614516
Object ID Field: OBJECTID
Fields:
-
OBJECTID
(
type: esriFieldTypeOID, alias: OBJECTID
)
-
Shape
(
type: esriFieldTypeGeometry, alias: Shape
)
-
Name
(
type: esriFieldTypeString, alias: Name, length: 200
)
-
MinPS
(
type: esriFieldTypeDouble, alias: MinPS
)
-
MaxPS
(
type: esriFieldTypeDouble, alias: MaxPS
)
-
LowPS
(
type: esriFieldTypeDouble, alias: LowPS
)
-
HighPS
(
type: esriFieldTypeDouble, alias: HighPS
)
-
Category
(
type: esriFieldTypeInteger, alias: Category
, Coded Values:
[0: Unknown]
, [1: Primary]
, [2: Overview]
, ...6 more...
)
-
Tag
(
type: esriFieldTypeString, alias: Tag, length: 100
)
-
GroupName
(
type: esriFieldTypeString, alias: GroupName, length: 100
)
-
ProductName
(
type: esriFieldTypeString, alias: ProductName, length: 100
)
-
CenterX
(
type: esriFieldTypeDouble, alias: CenterX
)
-
CenterY
(
type: esriFieldTypeDouble, alias: CenterY
)
-
ZOrder
(
type: esriFieldTypeInteger, alias: ZOrder
)
-
Shape_Length
(
type: esriFieldTypeDouble, alias: Shape_Length
)
-
Shape_Area
(
type: esriFieldTypeDouble, alias: Shape_Area
)
Default Mosaic Method: Northwest
Allowed Mosaic Methods: NorthWest,Center,LockRaster,ByAttribute,Nadir,Viewpoint,Seamline,None
SortField:
SortValue: null
Mosaic Operator: First
Default Compression Quality: 10000
Default Resampling Method: Bilinear
Max Record Count: 1000
Max Image Height: 30000
Max Image Width: 30000
Max Download Image Count: 20
Max Mosaic Image Count: 20
Allow Raster Function: true
Allow Copy: true
Allow Analysis: true
Allow Compute TiePoints: false
Supports Statistics: true
Supports Advanced Queries: true
Use StandardizedQueries: true
Raster Type Infos:
Name: Raster Dataset
Description: Supports all ArcGIS Raster Datasets
Help:
Has Raster Attribute Table: false
Edit Fields Info: null
Ownership Based AccessControl For Rasters: null
Child Resources:
Info
Histograms
Statistics
Key Properties
Legend
Raster Function Infos
Supported Operations:
Export Image
Query
Identify
Compute Histograms
Compute Statistics Histograms
Get Samples
Compute Class Statistics
Query Boundary
Compute Pixel Location
Compute Angles
Validate
Project