View In:
ArcGIS JavaScript
ArcGIS Online Map Viewer
ArcGIS Earth
Service Description: p_saviese/mnt_2010_VScentre_2m_lv95
Name: p_saviese/mnt_2010_VScentre_2m_lv95
Description:
Single Fused Map Cache: false
Extent:
XMin: 2584975.3642903287
YMin: 1112986.3223850818
XMax: 2602499.3642903287
YMax: 1134024.3223850818
Spatial Reference: 2056
(2056)
LatestVCSWkid(0)
Initial Extent:
XMin: 2584975.3642903287
YMin: 1112986.3223850818
XMax: 2602499.3642903287
YMax: 1134024.3223850818
Spatial Reference: 2056
(2056)
LatestVCSWkid(0)
Full Extent:
XMin: 2584975.3642903287
YMin: 1112986.3223850818
XMax: 2602499.3642903287
YMax: 1134024.3223850818
Spatial Reference: 2056
(2056)
LatestVCSWkid(0)
Pixel Size X: 2.0
Pixel Size Y: 2.0
Band Count: 1
Pixel Type: F32
RasterFunction Infos: {"rasterFunctionInfos": [{
"name": "None",
"description": "",
"help": ""
}]}
Mensuration Capabilities: Basic
Has Histograms: true
Has Colormap: false
Has Multi Dimensions : false
Rendering Rule:
Min Scale: 0
Max Scale: 0
Copyright Text:
Service Data Type: esriImageServiceDataTypeGeneric
Min Values: 470.0867919921875
Max Values: 2905.32666015625
Mean Values: 1280.9103109181337
Standard Deviation Values: 575.2962627478701
Object ID Field:
Fields:
None
Default Mosaic Method: Center
Allowed Mosaic Methods:
SortField:
SortValue: null
Mosaic Operator: First
Default Compression Quality: 10000
Default Resampling Method: Bilinear
Max Record Count: null
Max Image Height: 30000
Max Image Width: 30000
Max Download Image Count: null
Max Mosaic Image Count: null
Allow Raster Function: true
Allow Copy: true
Allow Analysis: false
Allow Compute TiePoints: false
Supports Statistics: false
Supports Advanced Queries: false
Use StandardizedQueries: true
Raster Type Infos:
Name: Raster Dataset
Description: Supports all ArcGIS Raster Datasets
Help:
Has Raster Attribute Table: false
Edit Fields Info: null
Ownership Based AccessControl For Rasters: null
Child Resources:
Info
Histograms
Statistics
Key Properties
Legend
Raster Function Infos
Supported Operations:
Export Image
Identify
Measure
Compute Histograms
Compute Statistics Histograms
Get Samples
Compute Class Statistics
Query Boundary
Compute Pixel Location
Compute Angles
Validate
Project