View In:
ArcGIS JavaScript
ArcGIS Online Map Viewer
ArcGIS Earth
Service Description: Modèle numérique de terrain 2010 tiré de SwissAlti3D à 2m de résolution
Name: p_pnr_trient/swissalti3D_mnt_2010_2m
Description: Modèle numérique de terrain 2010 tiré de SwissAlti3D à 2m de résolution
Single Fused Map Cache: false
Extent:
XMin: 2553841.332436083
YMin: 1092196.5886704475
XMax: 2571933.332436083
YMax: 1119436.5886704475
Spatial Reference: 2056
(2056)
LatestVCSWkid(0)
Initial Extent:
XMin: 2553841.332436083
YMin: 1092196.5886704475
XMax: 2571933.332436083
YMax: 1119436.5886704475
Spatial Reference: 2056
(2056)
LatestVCSWkid(0)
Full Extent:
XMin: 2553841.332436083
YMin: 1092196.5886704475
XMax: 2571933.332436083
YMax: 1119436.5886704475
Spatial Reference: 2056
(2056)
LatestVCSWkid(0)
Pixel Size X: 2.0
Pixel Size Y: 2.0
Band Count: 1
Pixel Type: F32
RasterFunction Infos: {"rasterFunctionInfos": [{
"name": "None",
"description": "",
"help": ""
}]}
Mensuration Capabilities: Basic
Has Histograms: true
Has Colormap: false
Has Multi Dimensions : false
Rendering Rule:
Min Scale: 0
Max Scale: 0
Copyright Text:
Service Data Type: esriImageServiceDataTypeGeneric
Min Values: 399.81597900390625
Max Values: 3537.8955078125
Mean Values: 1833.6733210641708
Standard Deviation Values: 669.060823217217
Object ID Field:
Fields:
None
Default Mosaic Method: Center
Allowed Mosaic Methods:
SortField:
SortValue: null
Mosaic Operator: First
Default Compression Quality: 10000
Default Resampling Method: Bilinear
Max Record Count: null
Max Image Height: 30000
Max Image Width: 30000
Max Download Image Count: null
Max Mosaic Image Count: null
Allow Raster Function: true
Allow Copy: true
Allow Analysis: true
Allow Compute TiePoints: false
Supports Statistics: false
Supports Advanced Queries: false
Use StandardizedQueries: true
Raster Type Infos:
Name: Raster Dataset
Description: Supports all ArcGIS Raster Datasets
Help:
Has Raster Attribute Table: false
Edit Fields Info: null
Ownership Based AccessControl For Rasters: null
Child Resources:
Info
Histograms
Statistics
Key Properties
Legend
Raster Function Infos
Supported Operations:
Export Image
Identify
Measure
Compute Histograms
Compute Statistics Histograms
Get Samples
Compute Class Statistics
Query Boundary
Compute Pixel Location
Compute Angles
Validate
Project