View In:
ArcGIS JavaScript
ArcGIS Online Map Viewer
ArcGIS Earth
Service Description: Modèle numérique de surface tiré des données lidar de la MO date de vol 2003 à 2007, résolution 1m
Name: p_pnr_trient/mns_mo_2003_2007_1m
Description: Modèle numérique de surface tiré des données lidar de la MO date de vol 2003 à 2007, résolution 1m
Single Fused Map Cache: false
Extent:
XMin: 2553841.9299999997
YMin: 1092198.2575000003
XMax: 2571932.9299999997
YMax: 1119436.2575000003
Spatial Reference: 2056
(2056)
LatestVCSWkid(0)
Initial Extent:
XMin: 2553841.9299999997
YMin: 1092198.2575000003
XMax: 2571932.9299999997
YMax: 1119436.2575000003
Spatial Reference: 2056
(2056)
LatestVCSWkid(0)
Full Extent:
XMin: 2553841.9299999997
YMin: 1092198.2575000003
XMax: 2571932.9299999997
YMax: 1119436.2575000003
Spatial Reference: 2056
(2056)
LatestVCSWkid(0)
Pixel Size X: 1.0
Pixel Size Y: 1.0
Band Count: 1
Pixel Type: F32
RasterFunction Infos: {"rasterFunctionInfos": [{
"name": "None",
"description": "",
"help": ""
}]}
Mensuration Capabilities: Basic
Has Histograms: true
Has Colormap: false
Has Multi Dimensions : false
Rendering Rule:
Min Scale: 0
Max Scale: 0
Copyright Text:
Service Data Type: esriImageServiceDataTypeGeneric
Min Values: 399.05999755859375
Max Values: 2101.7099609375
Mean Values: 1578.6879457251985
Standard Deviation Values: 529.2422505795192
Object ID Field:
Fields:
None
Default Mosaic Method: Center
Allowed Mosaic Methods:
SortField:
SortValue: null
Mosaic Operator: First
Default Compression Quality: 10000
Default Resampling Method: Bilinear
Max Record Count: null
Max Image Height: 30000
Max Image Width: 30000
Max Download Image Count: null
Max Mosaic Image Count: null
Allow Raster Function: true
Allow Copy: true
Allow Analysis: true
Allow Compute TiePoints: false
Supports Statistics: false
Supports Advanced Queries: false
Use StandardizedQueries: true
Raster Type Infos:
Name: Raster Dataset
Description: Supports all ArcGIS Raster Datasets
Help:
Has Raster Attribute Table: false
Edit Fields Info: null
Ownership Based AccessControl For Rasters: null
Child Resources:
Info
Histograms
Statistics
Key Properties
Legend
Raster Function Infos
Supported Operations:
Export Image
Identify
Measure
Compute Histograms
Compute Statistics Histograms
Get Samples
Compute Class Statistics
Query Boundary
Compute Pixel Location
Compute Angles
Validate
Project