View In:
ArcGIS JavaScript
ArcGIS Online Map Viewer
ArcGIS Earth
Service Description: Date d'acquisition : 2009
Méthode d'acquisition : Interférométrie laser aéroportée (LIDAR)
Taille du pixel (résolution) : 1 m
Nombre de bits : 32, floating point
Valeur du pixel : altitude
Précision planimétrique: 0.50 m
Précision altimétrique : 0.15 m (surface dure) - 1.0 m (zone foret)
Name: geneve/MNA_SURFACE_2009
Description: Date d'acquisition : 2009
Méthode d'acquisition : Interférométrie laser aéroportée (LIDAR)
Taille du pixel (résolution) : 1 m
Nombre de bits : 32, floating point
Valeur du pixel : altitude
Précision planimétrique: 0.50 m
Précision altimétrique : 0.15 m (surface dure) - 1.0 m (zone foret)
Single Fused Map Cache: false
Extent:
XMin: 2482999.9951226
YMin: 1106999.5331539
XMax: 2515999.9951226
YMax: 1136999.5331539
Spatial Reference: 2056
(2056)
LatestVCSWkid(0)
Initial Extent:
XMin: 2482999.9951226
YMin: 1106999.5331539
XMax: 2515999.9951226
YMax: 1136999.5331539
Spatial Reference: 2056
(2056)
LatestVCSWkid(0)
Full Extent:
XMin: 2482999.9951226
YMin: 1106999.5331539
XMax: 2515999.9951226
YMax: 1136999.5331539
Spatial Reference: 2056
(2056)
LatestVCSWkid(0)
Pixel Size X: 1.0
Pixel Size Y: 1.0
Band Count: 1
Pixel Type: F32
RasterFunction Infos: {"rasterFunctionInfos": [{
"name": "None",
"description": "",
"help": ""
}]}
Mensuration Capabilities: Basic
Has Histograms: true
Has Colormap: false
Has Multi Dimensions : false
Rendering Rule:
Min Scale: 0
Max Scale: 0
Copyright Text: SITG
Service Data Type: esriImageServiceDataTypeGeneric
Min Values: 331.79998779296875
Max Values: 722.376220703125
Mean Values: 430.48435943128794
Standard Deviation Values: 40.30851189085676
Object ID Field:
Fields:
None
Default Mosaic Method: Center
Allowed Mosaic Methods:
SortField:
SortValue: null
Mosaic Operator: First
Default Compression Quality: 10000
Default Resampling Method: Bilinear
Max Record Count: null
Max Image Height: 30000
Max Image Width: 30000
Max Download Image Count: null
Max Mosaic Image Count: null
Allow Raster Function: true
Allow Copy: true
Allow Analysis: true
Allow Compute TiePoints: false
Supports Statistics: false
Supports Advanced Queries: false
Use StandardizedQueries: true
Raster Type Infos:
Name: Raster Dataset
Description: Supports all ArcGIS Raster Datasets
Help:
Has Raster Attribute Table: false
Edit Fields Info: null
Ownership Based AccessControl For Rasters: null
Child Resources:
Info
Histograms
Statistics
Key Properties
Legend
Raster Function Infos
Supported Operations:
Export Image
Identify
Measure
Compute Histograms
Compute Statistics Histograms
Get Samples
Compute Class Statistics
Query Boundary
Compute Pixel Location
Compute Angles
Validate
Project