<?xml version="1.0" encoding="UTF-8" standalone="no"?>
<metadata xml:lang="fr">
<Esri>
<MetaID>{49DD29D4-E6A9-4290-B912-79E20267B3DD}</MetaID>
<CreaDate>20070920</CreaDate>
<CreaTime>09423400</CreaTime>
<SyncOnce>FALSE</SyncOnce>
<DataProperties>
</DataProperties>
<SyncDate>20101001</SyncDate>
<SyncTime>13482700</SyncTime>
<ModDate>20101001</ModDate>
<ModTime>13482700</ModTime>
</Esri>
<idinfo>
<native Sync="FALSE">ESRI ArcCatalog 9.3.1.3000</native>
<descript>
<langdata Sync="TRUE">fr</langdata>
<abstract>REQUIRED: A brief narrative summary of the data set.</abstract>
<purpose>REQUIRED: A summary of the intentions with which the data set was developed.</purpose>
</descript>
<citation>
<citeinfo>
<origin>REQUIRED: The name of an organization or individual that developed the data set.</origin>
<pubdate>REQUIRED: The date when the data set is published or otherwise made available for release.</pubdate>
<title Sync="TRUE">sde_climarbre.DBO.MNT</title>
<ftname Sync="TRUE">sde_climarbre.DBO.MNT</ftname>
<geoform Sync="TRUE">SDE raster digital data</geoform>
<onlink Sync="FALSE">withheld</onlink>
</citeinfo>
</citation>
<timeperd>
<current>REQUIRED: The basis on which the time period of content information is determined.</current>
<timeinfo>
<sngdate>
<caldate>REQUIRED: The year (and optionally month, or month and day) for which the data set corresponds to the ground.</caldate>
</sngdate>
</timeinfo>
</timeperd>
<status>
<progress>REQUIRED: The state of the data set.</progress>
<update>REQUIRED: The frequency with which changes and additions are made to the data set after the initial data set is completed.</update>
</status>
<spdom>
<bounding>
<westbc Sync="TRUE">5.861633</westbc>
<eastbc Sync="TRUE">7.301997</eastbc>
<northbc Sync="TRUE">47.006298</northbc>
<southbc Sync="TRUE">46.159004</southbc>
</bounding>
<lboundng>
<leftbc Sync="TRUE">480000.000000</leftbc>
<rightbc Sync="TRUE">589375.000000</rightbc>
<bottombc Sync="TRUE">113000.000000</bottombc>
<topbc Sync="TRUE">206000.000000</topbc>
</lboundng>
</spdom>
<keywords>
<theme>
<themekt>REQUIRED: Reference to a formally registered thesaurus or a similar authoritative source of theme keywords.</themekt>
<themekey>REQUIRED: Common-use word or phrase used to describe the subject of the data set.</themekey>
</theme>
</keywords>
<accconst>REQUIRED: Restrictions and legal prerequisites for accessing the data set.</accconst>
<useconst>REQUIRED: Restrictions and legal prerequisites for using the data set after access is granted.</useconst>
<natvform Sync="FALSE">Raster Dataset</natvform>
</idinfo>
<dataIdInfo>
<envirDesc Sync="FALSE">ESRI ArcCatalog 9.3.1.3000</envirDesc>
<dataLang>
<languageCode Sync="TRUE" value="fr">
</languageCode>
</dataLang>
<idCitation>
<resTitle Sync="TRUE">sde_climarbre.DBO.MNT</resTitle>
<presForm>
<PresFormCd Sync="TRUE" value="005">
</PresFormCd>
</presForm>
</idCitation>
<spatRpType>
<SpatRepTypCd Sync="TRUE" value="002">
</SpatRepTypCd>
</spatRpType>
<dataExt>
<geoEle>
<GeoBndBox esriExtentType="native">
<westBL Sync="TRUE">480000</westBL>
<eastBL Sync="TRUE">589375</eastBL>
<northBL Sync="TRUE">206000</northBL>
<southBL Sync="TRUE">113000</southBL>
<exTypeCode Sync="TRUE">1</exTypeCode>
</GeoBndBox>
</geoEle>
</dataExt>
<geoBox esriExtentType="decdegrees">
<westBL Sync="TRUE">5.861633</westBL>
<eastBL Sync="TRUE">7.301997</eastBL>
<northBL Sync="TRUE">47.006298</northBL>
<southBL Sync="TRUE">46.159004</southBL>
<exTypeCode Sync="TRUE">1</exTypeCode>
</geoBox>
<idAbs>MNT 2005, résolution 1m, CH1903_LV03</idAbs>
<searchKeys>
<keyword>altimétrie</keyword>
<keyword>Vaud</keyword>
</searchKeys>
<idPurp>MNT 2005, résolution 1m, CH1903_LV03</idPurp>
<idCredit>Administration cantonale vaudoise</idCredit>
<resConst>
<Consts>
<useLimit/>
</Consts>
</resConst>
</dataIdInfo>
<metainfo>
<langmeta Sync="TRUE">fr</langmeta>
<metstdn Sync="TRUE">FGDC Content Standards for Digital Geospatial Metadata</metstdn>
<metstdv Sync="TRUE">FGDC-STD-001-1998</metstdv>
<mettc Sync="TRUE">local time</mettc>
<metc>
<cntinfo>
<cntorgp>
<cntper>REQUIRED: The person responsible for the metadata information.</cntper>
<cntorg>REQUIRED: The organization responsible for the metadata information.</cntorg>
</cntorgp>
<cntaddr>
<addrtype>REQUIRED: The mailing and/or physical address for the organization or individual.</addrtype>
<city>REQUIRED: The city of the address.</city>
<state>REQUIRED: The state or province of the address.</state>
<postal>REQUIRED: The ZIP or other postal code of the address.</postal>
</cntaddr>
<cntvoice>REQUIRED: The telephone number by which individuals can speak to the organization or individual.</cntvoice>
</cntinfo>
</metc>
<metd Sync="TRUE">20101001</metd>
<metextns>
<onlink Sync="TRUE">http://www.esri.com/metadata/esriprof80.html</onlink>
<metprof Sync="TRUE">ESRI Metadata Profile</metprof>
</metextns>
</metainfo>
<mdLang>
<languageCode Sync="TRUE" value="fr">
</languageCode>
</mdLang>
<mdStanName Sync="TRUE">ISO 19115 Geographic Information - Metadata</mdStanName>
<mdStanVer Sync="TRUE">DIS_ESRI1.0</mdStanVer>
<mdChar>
<CharSetCd Sync="TRUE" value="004">
</CharSetCd>
</mdChar>
<mdHrLv>
<ScopeCd Sync="TRUE" value="005">
</ScopeCd>
</mdHrLv>
<mdHrLvName Sync="TRUE">dataset</mdHrLvName>
<distinfo>
<resdesc Sync="TRUE">Downloadable Data</resdesc>
</distinfo>
<distInfo>
<distributor>
<distorTran>
<onLineSrc>
<orDesc Sync="TRUE">002</orDesc>
<linkage Sync="FALSE">withheld</linkage>
</onLineSrc>
</distorTran>
<distorFormat>
<formatName Sync="FALSE">Raster Dataset</formatName>
</distorFormat>
</distributor>
</distInfo>
<spdoinfo>
<direct Sync="TRUE">Raster</direct>
<rastinfo>
<rasttype Sync="TRUE">Pixel</rasttype>
<rowcount Sync="TRUE">93000</rowcount>
<colcount Sync="TRUE">109375</colcount>
<rastxsz Sync="TRUE">1.000000</rastxsz>
<rastysz Sync="TRUE">1.000000</rastysz>
<rastbpp Sync="TRUE">32</rastbpp>
<vrtcount Sync="TRUE">1</vrtcount>
<rastorig Sync="TRUE">Upper Left</rastorig>
<rastcmap Sync="TRUE">FALSE</rastcmap>
<rastcomp Sync="TRUE">LZ77</rastcomp>
<rastband Sync="TRUE">1</rastband>
<rastdtyp Sync="TRUE">pixel codes</rastdtyp>
<rastifor Sync="TRUE">SDR</rastifor>
<rastplyr Sync="TRUE">TRUE</rastplyr>
</rastinfo>
</spdoinfo>
<spref>
<horizsys>
<cordsysn>
<geogcsn Sync="TRUE">GCS_CH1903</geogcsn>
<projcsn Sync="TRUE">CH1903_LV03</projcsn>
</cordsysn>
<planar>
<planci>
<plance Sync="TRUE">row and column</plance>
<plandu Sync="TRUE">meters</plandu>
<coordrep>
<absres Sync="TRUE">1.000000</absres>
<ordres Sync="TRUE">1.000000</ordres>
</coordrep>
</planci>
<mapproj>
<mapprojn Sync="TRUE">Oblique Mercator</mapprojn>
<obqmerc>
<sfctrlin Sync="TRUE">1.000000</sfctrlin>
<obqlazim>
<azimangl Sync="TRUE">90.000000</azimangl>
<azimptl Sync="TRUE">7.439583</azimptl>
</obqlazim>
<latprjo Sync="TRUE">46.952406</latprjo>
<feast Sync="TRUE">600000.000000</feast>
<fnorth Sync="TRUE">200000.000000</fnorth>
</obqmerc>
</mapproj>
</planar>
<geodetic>
<horizdn Sync="TRUE">D_CH1903</horizdn>
<ellips Sync="TRUE">Bessel_1841</ellips>
<semiaxis Sync="TRUE">6377397.155000</semiaxis>
<denflat Sync="TRUE">299.152813</denflat>
</geodetic>
</horizsys>
</spref>
<refSysInfo>
<RefSystem>
<refSysID>
<identCode Sync="TRUE">CH1903_LV03</identCode>
</refSysID>
</RefSystem>
</refSysInfo>
<mdDateSt Sync="TRUE">20101001</mdDateSt>
</metadata>
