{
 "currentVersion": 11.1,
 "serviceDescription": "Date d'acquisition : 2009\nMéthode d'acquisition : Interférométrie laser aéroportée (LIDAR)\nTaille du pixel (résolution) : 1 m\nNombre de bits : 32, floating point\nValeur du pixel : altitude\nPrécision planimétrique: 0.50 m\nPrécision altimétrique : 0.15 m (surface dure) - 1.0 m (zone foret)",
 "name": "geneve/MNA_TERRAIN_2009",
 "description": "Date d'acquisition : 2009\nMéthode d'acquisition : Interférométrie laser aéroportée (LIDAR)\nTaille du pixel (résolution) : 1 m\nNombre de bits : 32, floating point\nValeur du pixel : altitude\nPrécision planimétrique: 0.50 m\nPrécision altimétrique : 0.15 m (surface dure) - 1.0 m (zone foret)",
 "extent": {
  "xmin": 2482999.92625817,
  "ymin": 1106999.71874183,
  "xmax": 2515999.92625817,
  "ymax": 1136999.71874183,
  "spatialReference": {
   "wkid": 2056,
   "latestWkid": 2056
  }
 },
 "initialExtent": {
  "xmin": 2482999.92625817,
  "ymin": 1106999.71874183,
  "xmax": 2515999.92625817,
  "ymax": 1136999.71874183,
  "spatialReference": {
   "wkid": 2056,
   "latestWkid": 2056
  }
 },
 "fullExtent": {
  "xmin": 2482999.92625817,
  "ymin": 1106999.71874183,
  "xmax": 2515999.92625817,
  "ymax": 1136999.71874183,
  "spatialReference": {
   "wkid": 2056,
   "latestWkid": 2056
  }
 },
 "sortableFields": "",
 "bandCount": 1,
 "pixelType": "F32",
 "minValues": [
  331.55670166015625
 ],
 "maxValues": [
  615.3245239257812
 ],
 "meanValues": [
  426.47337563607164
 ],
 "stdvValues": [
  39.104176314485706
 ],
 "hasMultidimensions": false,
 "pixelSizeX": 1,
 "pixelSizeY": 1,
 "datasetFormat": "FGDBR",
 "uncompressedSize": 3960000000,
 "blockWidth": 128,
 "blockHeight": 128,
 "compressionType": "LZ77",
 "bandNames": [
  "Band_1"
 ],
 "allowCopy": true,
 "allowAnalysis": true,
 "itemAccess": false,
 "minPixelSize": 0,
 "maxPixelSize": 0,
 "copyrightText": "SITG",
 "serviceDataType": "esriImageServiceDataTypeGeneric",
 "serviceSourceType": "esriImageServiceSourceTypeDataset",
 "objectIdField": "",
 "fields": [],
 "capabilities": "Image,Metadata,Mensuration",
 "defaultMosaicMethod": "Center",
 "allowedMosaicMethods": "",
 "sortField": "",
 "sortValue": null,
 "sortAscending": true,
 "mosaicOperator": "First",
 "defaultCompressionQuality": 10000,
 "defaultResamplingMethod": "Bilinear",
 "maxImageHeight": 30000,
 "maxImageWidth": 30000,
 "allowRasterFunction": true,
 "rasterFunctionInfos": [
  {
   "name": "None",
   "description": "",
   "help": ""
  }
 ],
 "rasterTypeInfos": [
  {
   "name": "Raster Dataset",
   "description": "Supports all ArcGIS Raster Datasets",
   "help": ""
  }
 ],
 "mensurationCapabilities": "Basic",
 "hasHistograms": true,
 "hasColormap": false,
 "hasRasterAttributeTable": false,
 "minScale": 0,
 "maxScale": 0,
 "exportTilesAllowed": false,
 "supportsStatistics": false,
 "supportsAdvancedQueries": false,
 "editFieldsInfo": null,
 "ownershipBasedAccessControlForRasters": null,
 "allowComputeTiePoints": false,
 "useStandardizedQueries": true,
 "advancedQueryCapabilities": {
  "useStandardizedQueries": true,
  "supportsStatistics": false,
  "supportsOrderBy": false,
  "supportsDistinct": false,
  "supportsPagination": false
 },
 "spatialReference": {
  "wkid": 2056,
  "latestWkid": 2056
 }
}
